BEGIN:VCALENDAR
VERSION:2.0
PRODID:-//Republican Party of Rockwall County - ECPv6.15.12.2//NONSGML v1.0//EN
CALSCALE:GREGORIAN
METHOD:PUBLISH
X-WR-CALNAME:Republican Party of Rockwall County
X-ORIGINAL-URL:https://86n.1d2.myftpupload.com
X-WR-CALDESC:Events for Republican Party of Rockwall County
REFRESH-INTERVAL;VALUE=DURATION:PT1H
X-Robots-Tag:noindex
X-PUBLISHED-TTL:PT1H
BEGIN:VTIMEZONE
TZID:America/Chicago
BEGIN:DAYLIGHT
TZOFFSETFROM:-0600
TZOFFSETTO:-0500
TZNAME:CDT
DTSTART:20250309T080000
END:DAYLIGHT
BEGIN:STANDARD
TZOFFSETFROM:-0500
TZOFFSETTO:-0600
TZNAME:CST
DTSTART:20251102T070000
END:STANDARD
BEGIN:DAYLIGHT
TZOFFSETFROM:-0600
TZOFFSETTO:-0500
TZNAME:CDT
DTSTART:20260308T080000
END:DAYLIGHT
BEGIN:STANDARD
TZOFFSETFROM:-0500
TZOFFSETTO:-0600
TZNAME:CST
DTSTART:20261101T070000
END:STANDARD
BEGIN:DAYLIGHT
TZOFFSETFROM:-0600
TZOFFSETTO:-0500
TZNAME:CDT
DTSTART:20270314T080000
END:DAYLIGHT
BEGIN:STANDARD
TZOFFSETFROM:-0500
TZOFFSETTO:-0600
TZNAME:CST
DTSTART:20271107T070000
END:STANDARD
END:VTIMEZONE
BEGIN:VEVENT
DTSTART;TZID=America/Chicago:20260427T113000
DTEND;TZID=America/Chicago:20260427T130000
DTSTAMP:20260422T104241
CREATED:20250825T044128Z
LAST-MODIFIED:20250825T051309Z
UID:10000650-1777289400-1777294800@86n.1d2.myftpupload.com
SUMMARY:RCRW Liberty Ladies Lunch
DESCRIPTION:Kids back in school? Now it’s your turn for a break. Join a great group of ladies\, have lunch\, and enjoy the much-needed AC!!!! \n\n\n\nJoin us at Joe Willy’s to discuss what’s going on during the Special Session\, meeting quorum\, and what we can expect to happen next. \n\n\n\nInvite your friend to lunch\, we enjoy meeting new people\, and there’s always room at the table for 1 more! \n\n\n\nLooking forward to seeing you soon!
URL:https://86n.1d2.myftpupload.com/event/rcrw-liberty-ladies-lunch/2026-04-27/
LOCATION:Joe Willy’s\, 2006 S Goliad St #200\, Rockwall\, TX\, 75087\, United States
CATEGORIES:Rockwall County Republican Women
ATTACH;FMTTYPE=image/jpeg:https://86n.1d2.myftpupload.com/wp-content/uploads/2025/08/Lunch.jpg
END:VEVENT
END:VCALENDAR